BEGIN:VCALENDAR
VERSION:2.0
PRODID:-//Plattsmouth Chamber of Commerce - ECPv6.15.14//NONSGML v1.0//EN
CALSCALE:GREGORIAN
METHOD:PUBLISH
X-WR-CALNAME:Plattsmouth Chamber of Commerce
X-ORIGINAL-URL:https://www.plattsmouthchamber.com
X-WR-CALDESC:Events for Plattsmouth Chamber of Commerce
REFRESH-INTERVAL;VALUE=DURATION:PT1H
X-Robots-Tag:noindex
X-PUBLISHED-TTL:PT1H
BEGIN:VTIMEZONE
TZID:UTC
BEGIN:STANDARD
TZOFFSETFROM:+0000
TZOFFSETTO:+0000
TZNAME:UTC
DTSTART:20150101T000000
END:STANDARD
END:VTIMEZONE
BEGIN:VEVENT
DTSTART;TZID=UTC:20171013T170000
DTEND;TZID=UTC:20171013T210000
DTSTAMP:20260421T044720
CREATED:20171011T163749Z
LAST-MODIFIED:20171011T163749Z
UID:1391-1507914000-1507928400@www.plattsmouthchamber.com
SUMMARY:Rescheduled:  Cruizin Main 2017 - 14th Annual
DESCRIPTION:
URL:https://www.plattsmouthchamber.com/event/rescheduled-cruizin-main-2017-14th-annual/
ORGANIZER;CN="Cindy Cruse":MAILTO:ccruse@plattsmouthchamber.com
END:VEVENT
BEGIN:VEVENT
DTSTART;TZID=UTC:20171006T170000
DTEND;TZID=UTC:20171006T210000
DTSTAMP:20260421T044720
CREATED:20161012T192254Z
LAST-MODIFIED:20170830T151438Z
UID:1296-1507309200-1507323600@www.plattsmouthchamber.com
SUMMARY:Cruizin' Main 2017
DESCRIPTION:To register your car email:  ccruse@plattsmouthchamber.com\n \n\nThis year we are adding a family friendly piece – two blocks up from Main Street – at Garfield Park we will have Cars 2 playing on a big screen and an obstacle course. Come down – eat and see the cars then head up to Garfield park for a movie and some fun times. \n  \nClick Here for More Info! \nClick Here for Sponsorship Info! \n  \nJoin us on Main Street Plattsmouth \n Over 700 cars last year \n Live Entertainment \nLemon Fresh Day (Courtesy of Main Street Association) \nDon’t miss out – its an amazing car show! \nTo register for the event – please email \nccruse@plattsmouthchamber.com \n\nThank you to our current sponsors – Hy-Vee\, Woodhouse\, Henry Chevrolet\, Plattsmouth State Bank\, OFC Schmidt Transportation\, Roby Funeral Home\, Shelter Insurance Julie Null\, Nebraska Realty – Tony Cruse\, City of Plattsmouth\, Tobacco Free Cass County\, One Life Church\, Plattsmouth Community Center\, Cornerstone Bank\, Sam’s Club. \n 
URL:https://www.plattsmouthchamber.com/event/cruizin-main-2017/
LOCATION:Entertainment Plaza\, 136 N 5th St\, Plattsmouth\, NE\, 68048\, United States
ORGANIZER;CN="Cindy Cruse":MAILTO:ccruse@plattsmouthchamber.com
END:VEVENT
BEGIN:VEVENT
DTSTART;TZID=UTC:20170728T170000
DTEND;TZID=UTC:20170728T210000
DTSTAMP:20260421T044720
CREATED:20170202T203528Z
LAST-MODIFIED:20170630T155910Z
UID:1342-1501261200-1501275600@www.plattsmouthchamber.com
SUMMARY:Friday Night Out
DESCRIPTION:
URL:https://www.plattsmouthchamber.com/event/friday-night-out/
LOCATION:Entertainment Plaza\, 136 N 5th St\, Plattsmouth\, NE\, 68048\, United States
ORGANIZER;CN="Cindy Cruse":MAILTO:ccruse@plattsmouthchamber.com
END:VEVENT
BEGIN:VEVENT
DTSTART;TZID=UTC:20170624T180000
DTEND;TZID=UTC:20170624T230000
DTSTAMP:20260421T044720
CREATED:20170202T202726Z
LAST-MODIFIED:20170619T145513Z
UID:1340-1498327200-1498345200@www.plattsmouthchamber.com
SUMMARY:1st Nebraska Food Truck Wars/ Street Dance
DESCRIPTION:Thank you to our sponsors that made this event happen!! \n\nThe City of Plattsmouth\, DC’s Waterhole\, Budweiser\, Turf Cars\, Nebraska Realty – Tony Cruse\, Casey’s General Store\, Main Street Association\, The Journal\, Jeff Henry Chevrolet\, Schmidt Trucking\, Tobacco Free Cass/Sarpy\,  and the Plattsmouth Chamber of Commerce. \n\nWe have over 20 food trucks coming – don’t miss out!!! \n\n\nJoin us on Main Street \nFood Trucks compete for $1500 cash prize \nLive Entertainment from 7-11pm \nFever and the Funk House \nBeer Garden \nDon’t miss out on this event! \nFree \nWe will be crowning the New Miss Plattsmouth 2017 at 7:30 pm. \nSome of the different foods that will be available for purchase include: \nNew Orleans\, Brisket\, smoked Chicken Tacos\, pulled pork\, gyros\, Chinese\, Gourmet burgers\, hawaiian\, authentic mexican\, thai\, greek tacos\, rice bowls\, sushi\, funnel sandwiches\, italian\, british pub food\, sausages\, BBQ\, handmade pizzas\, designer hot dogs\, sliders\, lobster roll\, soft crab shell\, chicken & waffles\, ribs\, plus more.
URL:https://www.plattsmouthchamber.com/event/1st-nebraska-food-truck-wars-street-dance/
ORGANIZER;CN="Cindy Cruse":MAILTO:ccruse@plattsmouthchamber.com
END:VEVENT
BEGIN:VEVENT
DTSTART;TZID=UTC:20170602T080000
DTEND;TZID=UTC:20170602T170000
DTSTAMP:20260421T044720
CREATED:20170601T184552Z
LAST-MODIFIED:20170601T190124Z
UID:1369-1496390400-1496422800@www.plattsmouthchamber.com
SUMMARY:Plattsmouth Chamber of Commerce Annual Golf Tournament
DESCRIPTION:Businesses\, and golfers get together for food\, fun\, and golfing.  Registration starts at 9:00am – Shotgun start at 10:00am.  Be there early to get your mulligans\, rope\, chance to win a Harley\, and cash.  Lunch and dinner are included. \nThank you to all our sponsors: \n  \nKeg beer sponsored by Schmidt Trucking \nLunch sponsored by Subway. \nHole in one Sponsors: Pro Chrysler Jeep Dodge Ram\, Henry Chevrolet \nHole Sponsors: \nBlack Hills Energy \nNebraska Realty – Tony Cruse \nNebraska Title \nComper Care \nAbsolute Healthcare \nBrian Harvey Funeral Home \nCass County Bank \nTobacco Free Sarpy/Cass \nRoby Funeral Home \nCornerstone Bank \nDJ’s Dugout \nFarmers Insurance Allen Weaver \nCharter Title \nState Farm Derek Bird \nThe Nebraska Masonic Home \nPlattsmouth Care and Rehab \nPlattsmouth Community Center \nInter-Tech Collision \n  \nCorporate Sponsors: \nHy-Vee \nPlattsmouth State Bank \nWoodhouse Ford \nSam’s Club
URL:https://www.plattsmouthchamber.com/event/plattsmouth-chamber-commerce-annual-golf-tournament/
ORGANIZER;CN="Unnamed Organizer":MAILTO:ccruse@plattsmouthchamber.com
END:VEVENT
BEGIN:VEVENT
DTSTART;TZID=UTC:20170428T180000
DTEND;TZID=UTC:20170428T210000
DTSTAMP:20260421T044720
CREATED:20170202T195146Z
LAST-MODIFIED:20170321T155643Z
UID:1334-1493402400-1493413200@www.plattsmouthchamber.com
SUMMARY:Amazing Race - Road Rally
DESCRIPTION:Registration begins March 1st.  To get a waiver please click the link below: \n  \nAmazingracewaiver2017 \n  \nTeams can be up to 6 players with a chance to win cash prizes \n1st place $500 \n2nd place $250 \n3rd place $100 \nStarting point Hy-Vee Market \nDon’t miss out on a great time
URL:https://www.plattsmouthchamber.com/event/amazing-race-road-rally/
ORGANIZER;CN="Cindy Cruse":MAILTO:ccruse@plattsmouthchamber.com
END:VEVENT
BEGIN:VEVENT
DTSTART;TZID=UTC:20161104T170000
DTEND;TZID=UTC:20161104T210000
DTSTAMP:20260421T044720
CREATED:20160503T220656Z
LAST-MODIFIED:20161014T161319Z
UID:1245-1478278800-1478293200@www.plattsmouthchamber.com
SUMMARY:Award and Auction Banquet
DESCRIPTION:Click Here for More Info!
URL:https://www.plattsmouthchamber.com/event/award-auction-banquet/
LOCATION:Plattsmouth Community Center\, 308 S 18th St\, Plattsmouth\, NE\, 68048\, United States
END:VEVENT
BEGIN:VEVENT
DTSTART;TZID=UTC:20161007T170000
DTEND;TZID=UTC:20161007T210000
DTSTAMP:20260421T044720
CREATED:20160503T220600Z
LAST-MODIFIED:20161007T121625Z
UID:1244-1475859600-1475874000@www.plattsmouthchamber.com
SUMMARY:Plattsmouth 2016 Cruizin' Main
DESCRIPTION:Plattsmouth Chamber of Commerce Presents: \nThe 13th Annual Cruizin’ Main! Where car enthusiasts who come from 4 counties to Show ‘n Shine Car Show! \nGreat event to be a part of! Last year we had over 500 cars! Motorcycles are welcome too! Free-register in advance to reserve a dash plaque. T-shirts\, Hoodies\, and Koozie will be available to purchase the day of the event. \nLive music performed by On the Fritz (http://www.onthefritz.net/)-Courtesy of The City of Plattsmouth \nRegistration has closed
URL:https://www.plattsmouthchamber.com/event/cruizin-main/
END:VEVENT
BEGIN:VEVENT
DTSTART;TZID=UTC:20160729T170000
DTEND;TZID=UTC:20160729T210000
DTSTAMP:20260421T044720
CREATED:20160503T220327Z
LAST-MODIFIED:20160607T181036Z
UID:1242-1469811600-1469826000@www.plattsmouthchamber.com
SUMMARY:Taste of Plattsmouth
DESCRIPTION:Come down and enjoy local food and businesses products.  Live music provided by Nate Bray.  Great time for the entire family!
URL:https://www.plattsmouthchamber.com/event/taste-plattsmouth-2/
END:VEVENT
BEGIN:VEVENT
DTSTART;TZID=UTC:20160603T090000
DTEND;TZID=UTC:20160603T180000
DTSTAMP:20260421T044720
CREATED:20160503T203333Z
LAST-MODIFIED:20160503T203523Z
UID:1241-1464944400-1464976800@www.plattsmouthchamber.com
SUMMARY:Chamber Golfing Event
DESCRIPTION:
URL:https://www.plattsmouthchamber.com/event/chamber-golfing-event/
LOCATION:Bay Hills Golf Course\, 3200 Buccaneer Blvd\, Plattsmouth\, 68048
ORGANIZER;CN="Cindy Cruise":MAILTO:ccruise@plattsmouthchamber.com
END:VEVENT
BEGIN:VEVENT
DTSTART;TZID=UTC:20160520T140000
DTEND;TZID=UTC:20160520T160000
DTSTAMP:20260421T044720
CREATED:20160503T203116Z
LAST-MODIFIED:20160518T132004Z
UID:1238-1463752800-1463760000@www.plattsmouthchamber.com
SUMMARY:Electronic Recycling Event – Chamber office
DESCRIPTION:May 20 – 2-4pm – Electronic Recycling Event at Chamber office
URL:https://www.plattsmouthchamber.com/event/may-20-12-2pm-electronic-recycling-event-chamber-office/
LOCATION:Plattsmouth Chamber Office\, 918 Washington Avenue\, Plattsmouth\, NE\, 68048\, United States
ORGANIZER;CN="Cindy Cruise":MAILTO:ccruise@plattsmouthchamber.com
END:VEVENT
END:VCALENDAR