BEGIN:VCALENDAR
VERSION:2.0
PRODID:-//Plattsmouth Chamber of Commerce - ECPv6.15.14//NONSGML v1.0//EN
CALSCALE:GREGORIAN
METHOD:PUBLISH
X-WR-CALNAME:Plattsmouth Chamber of Commerce
X-ORIGINAL-URL:https://www.plattsmouthchamber.com
X-WR-CALDESC:Events for Plattsmouth Chamber of Commerce
REFRESH-INTERVAL;VALUE=DURATION:PT1H
X-Robots-Tag:noindex
X-PUBLISHED-TTL:PT1H
BEGIN:VTIMEZONE
TZID:UTC
BEGIN:STANDARD
TZOFFSETFROM:+0000
TZOFFSETTO:+0000
TZNAME:UTC
DTSTART:20150101T000000
END:STANDARD
END:VTIMEZONE
BEGIN:VEVENT
DTSTART;TZID=UTC:20190629T180000
DTEND;TZID=UTC:20190629T230000
DTSTAMP:20260421T045203
CREATED:20190305T180538Z
LAST-MODIFIED:20190515T164552Z
UID:1590-1561831200-1561849200@www.plattsmouthchamber.com
SUMMARY:3rd Annual Nebraska Food Truck Wars
DESCRIPTION:
URL:https://www.plattsmouthchamber.com/event/3rd-annual-nebraska-food-truck-wars/
LOCATION:NE
END:VEVENT
BEGIN:VEVENT
DTSTART;TZID=UTC:20190611T110000
DTEND;TZID=UTC:20190611T130000
DTSTAMP:20260421T045203
CREATED:20190528T180718Z
LAST-MODIFIED:20190528T180718Z
UID:1606-1560250800-1560258000@www.plattsmouthchamber.com
SUMMARY:Food Truck Tuesday at the Roundabout
DESCRIPTION:
URL:https://www.plattsmouthchamber.com/event/food-truck-tuesday-at-the-roundabout/
LOCATION:Roundabout Behind Cass County Bank\, 2020 W 8th Avenue\, PLATTSMOUTH\, NE\, 68048-1146\, United States
ORGANIZER;CN="Cindy Cruse":MAILTO:ccruse@plattsmouthchamber.com
END:VEVENT
BEGIN:VEVENT
DTSTART;TZID=UTC:20190607T080000
DTEND;TZID=UTC:20190607T170000
DTSTAMP:20260421T045203
CREATED:20190305T180422Z
LAST-MODIFIED:20190530T154147Z
UID:1586-1559894400-1559926800@www.plattsmouthchamber.com
SUMMARY:Plattsmouth Chamber of Commerce Golf Tournament
DESCRIPTION:
URL:https://www.plattsmouthchamber.com/event/plattsmouth-chamber-of-commerce-golf-tournament/
LOCATION:Lakeridge Golf Course\, 1536 Country Club Drive
ORGANIZER;CN="Cindy Cruse":MAILTO:ccruse@plattsmouthchamber.com
END:VEVENT
BEGIN:VEVENT
DTSTART;TZID=UTC:20190503T170000
DTEND;TZID=UTC:20190503T210000
DTSTAMP:20260421T045203
CREATED:20190304T193521Z
LAST-MODIFIED:20190401T154342Z
UID:1581-1556902800-1556917200@www.plattsmouthchamber.com
SUMMARY:Plattsmouth Chamber of Commerce Amazing Race
DESCRIPTION:  \nTo sign up click the link below: \nhttp://events.constantcontact.com/register/event?llr=7n6izafab&oeidk=a07eg5kxyr652728478 \n  \n 
URL:https://www.plattsmouthchamber.com/event/plattsmouth-chamber-of-commerce-amazing-race/
LOCATION:Plattsmouth Community Center\, 308 S 18th St\, Plattsmouth\, NE\, 68048\, United States
ORGANIZER;CN="Cindy Cruse":MAILTO:ccruse@plattsmouthchamber.com
END:VEVENT
BEGIN:VEVENT
DTSTART;TZID=UTC:20190327T170000
DTEND;TZID=UTC:20190327T203000
DTSTAMP:20260421T045203
CREATED:20190211T190303Z
LAST-MODIFIED:20190211T190429Z
UID:1577-1553706000-1553718600@www.plattsmouthchamber.com
SUMMARY:Plattsmouth Chamber of Commerce Annual Award Banquet
DESCRIPTION:Business and business people recognized for all their hard work.
URL:https://www.plattsmouthchamber.com/event/plattsmouth-chamber-of-commerce-annual-award-banquet/
LOCATION:NE
ORGANIZER;CN="Cindy Cruse":MAILTO:ccruse@plattsmouthchamber.com
END:VEVENT
BEGIN:VEVENT
DTSTART;TZID=UTC:20190131T170000
DTEND;TZID=UTC:20190131T190000
DTSTAMP:20260421T045203
CREATED:20190122T165006Z
LAST-MODIFIED:20190122T165006Z
UID:1549-1548954000-1548961200@www.plattsmouthchamber.com
SUMMARY:Cornerstone Bank Grand Opening
DESCRIPTION:
URL:https://www.plattsmouthchamber.com/event/cornerstone-bank-grand-opening/
LOCATION:211 Rock Bluff Road\, 211 Rock Bluff Road\, Beaver Lake\, NE\, 68048\, United States
ORGANIZER;CN="Cindy Cruse":MAILTO:ccruse@plattsmouthchamber.com
END:VEVENT
BEGIN:VEVENT
DTSTART;TZID=UTC:20181102T170000
DTEND;TZID=UTC:20181102T220000
DTSTAMP:20260421T045203
CREATED:20180822T135328Z
LAST-MODIFIED:20180822T135328Z
UID:1526-1541178000-1541196000@www.plattsmouthchamber.com
SUMMARY:Plattsmouth Chamber of Commerce Annual Dinner Auction - Casino Night
DESCRIPTION:  \nOpen to all – come out and win some great prizes!
URL:https://www.plattsmouthchamber.com/event/plattsmouth-chamber-of-commerce-annual-dinner-auction-casino-night/
LOCATION:st johns church\, plattsmouth\, 68048\, United States
ORGANIZER;CN="Cindy Cruse":MAILTO:ccruse@plattsmouthchamber.com
END:VEVENT
BEGIN:VEVENT
DTSTART;TZID=UTC:20181012T170000
DTEND;TZID=UTC:20181012T210000
DTSTAMP:20260421T045203
CREATED:20171220T211718Z
LAST-MODIFIED:20181003T163721Z
UID:1411-1539363600-1539378000@www.plattsmouthchamber.com
SUMMARY:Cruizin Main 2018 -Plattsmouth Chamber of Commerce
DESCRIPTION:You can pre-register Click here \n  \n$10.00 to park car – if you pre-register – you will receive a free dash plaque
URL:https://www.plattsmouthchamber.com/event/cruizin-main-2018-plattsmouth-chamber-commerce/
LOCATION:Entertainment Plaza\, 136 N 5th St\, Plattsmouth\, NE\, 68048\, United States
ORGANIZER;CN="Cindy Cruse":MAILTO:ccruse@plattsmouthchamber.com
END:VEVENT
BEGIN:VEVENT
DTSTART;TZID=UTC:20180907T173000
DTEND;TZID=UTC:20180907T220000
DTSTAMP:20260421T045203
CREATED:20180730T153935Z
LAST-MODIFIED:20180816T155703Z
UID:1517-1536341400-1536357600@www.plattsmouthchamber.com
SUMMARY:Plattsmouth Chamber of Commerce 1st Annual Cornhole Tournament
DESCRIPTION:  \nTo sign up click here
URL:https://www.plattsmouthchamber.com/event/plattsmouth-chamber-commerce-1st-annual-cornhole-tournament/
LOCATION:Entertainment Plaza\, 136 N 5th St\, Plattsmouth\, NE\, 68048\, United States
ORGANIZER;CN="Cindy Cruse":MAILTO:ccruse@plattsmouthchamber.com
END:VEVENT
BEGIN:VEVENT
DTSTART;TZID=UTC:20180814T113000
DTEND;TZID=UTC:20180814T133000
DTSTAMP:20260421T045203
CREATED:20180725T135329Z
LAST-MODIFIED:20180814T132744Z
UID:1515-1534246200-1534253400@www.plattsmouthchamber.com
SUMMARY:Food Truck Tuesday at the Roundabout - August 2018
DESCRIPTION:
URL:https://www.plattsmouthchamber.com/event/food-truck-tuesday-roundabout-august-2018/
LOCATION:Roundabout Behind Cass County Bank\, 2020 W 8th Avenue\, PLATTSMOUTH\, NE\, 68048-1146\, United States
ORGANIZER;CN="Cindy Cruse":MAILTO:ccruse@plattsmouthchamber.com
END:VEVENT
BEGIN:VEVENT
DTSTART;TZID=UTC:20180727T180000
DTEND;TZID=UTC:20180727T220000
DTSTAMP:20260421T045203
CREATED:20180129T173108Z
LAST-MODIFIED:20180605T140434Z
UID:1455-1532714400-1532728800@www.plattsmouthchamber.com
SUMMARY:Friday Night Out - Taste of Brew - Plattsmouth Chamber of Commerce
DESCRIPTION:
URL:https://www.plattsmouthchamber.com/event/friday-night-taste-brew-plattsmouth-chamber-commerce/
LOCATION:Entertainment Plaza\, 136 N 5th St\, Plattsmouth\, NE\, 68048\, United States
ORGANIZER;CN="Cindy Cruse":MAILTO:ccruse@plattsmouthchamber.com
END:VEVENT
BEGIN:VEVENT
DTSTART;TZID=UTC:20180710T113000
DTEND;TZID=UTC:20180710T133000
DTSTAMP:20260421T045203
CREATED:20180628T184547Z
LAST-MODIFIED:20180710T133656Z
UID:1510-1531222200-1531229400@www.plattsmouthchamber.com
SUMMARY:Food Truck Tuesday at the Roundabout
DESCRIPTION:
URL:https://www.plattsmouthchamber.com/event/food-truck-tuesday-roundabout/
LOCATION:Roundabout Behind Cass County Bank\, 2020 W 8th Avenue\, PLATTSMOUTH\, NE\, 68048-1146\, United States
ORGANIZER;CN="Cindy Cruse":MAILTO:ccruse@plattsmouthchamber.com
END:VEVENT
BEGIN:VEVENT
DTSTART;TZID=UTC:20180623T180000
DTEND;TZID=UTC:20180623T230000
DTSTAMP:20260421T045203
CREATED:20180129T172832Z
LAST-MODIFIED:20180507T164709Z
UID:1454-1529776800-1529794800@www.plattsmouthchamber.com
SUMMARY:2nd Annual Nebraska Food Truck Wars - Plattsmouth Chamber of Commerce
DESCRIPTION:
URL:https://www.plattsmouthchamber.com/event/2nd-annual-food-truck-wars-plattsmouth-chamber-commerce/
LOCATION:Entertainment Plaza\, 136 N 5th St\, Plattsmouth\, NE\, 68048\, United States
ORGANIZER;CN="Cindy Cruse":MAILTO:ccruse@plattsmouthchamber.com
END:VEVENT
BEGIN:VEVENT
DTSTART;TZID=UTC:20180612T113000
DTEND;TZID=UTC:20180612T133000
DTSTAMP:20260421T045203
CREATED:20180605T140613Z
LAST-MODIFIED:20180605T140626Z
UID:1501-1528803000-1528810200@www.plattsmouthchamber.com
SUMMARY:Food Truck Tuesdays at the Roundabout
DESCRIPTION:
URL:https://www.plattsmouthchamber.com/event/food-truck-tuesdays-roundabout-2/
LOCATION:Roundabout Behind Cass County Bank\, 2020 W 8th Avenue\, PLATTSMOUTH\, NE\, 68048-1146\, United States
ORGANIZER;CN="Cindy Cruse":MAILTO:ccruse@plattsmouthchamber.com
END:VEVENT
BEGIN:VEVENT
DTSTART;TZID=UTC:20180601T100000
DTEND;TZID=UTC:20180601T170000
DTSTAMP:20260421T045203
CREATED:20180129T172602Z
LAST-MODIFIED:20180129T172602Z
UID:1451-1527847200-1527872400@www.plattsmouthchamber.com
SUMMARY:Plattsmouth Chamber of Commerce Golf Tournament
DESCRIPTION:
URL:https://www.plattsmouthchamber.com/event/plattsmouth-chamber-commerce-golf-tournament/
LOCATION:Bay Hills Golf Course\, 3200 Buccaneer Blvd\, Plattsmouth\, 68048
ORGANIZER;CN="Cindy Cruse":MAILTO:ccruse@plattsmouthchamber.com
END:VEVENT
BEGIN:VEVENT
DTSTART;TZID=UTC:20180427T180000
DTEND;TZID=UTC:20180427T210000
DTSTAMP:20260421T045203
CREATED:20180129T172217Z
LAST-MODIFIED:20180312T151452Z
UID:1449-1524852000-1524862800@www.plattsmouthchamber.com
SUMMARY:Plattsmouth Chamber of Commerce Amazing Race
DESCRIPTION:
URL:https://www.plattsmouthchamber.com/event/plattsmouth-chamber-commerce-amazing-race/
LOCATION:Hy-Vee Plattsmouth
ORGANIZER;CN="Cindy Cruse":MAILTO:ccruse@plattsmouthchamber.com
END:VEVENT
BEGIN:VEVENT
DTSTART;TZID=UTC:20180419T113000
DTEND;TZID=UTC:20180419T130000
DTSTAMP:20260421T045203
CREATED:20180326T191303Z
LAST-MODIFIED:20180326T191303Z
UID:1476-1524137400-1524142800@www.plattsmouthchamber.com
SUMMARY:Marketing on a Small Budget - Do's and Don'ts
DESCRIPTION:
URL:https://www.plattsmouthchamber.com/event/marketing-small-budget-dos-donts/
LOCATION:Plattsmouth State Bank\, 446 Main St\,  Plattsmouth\, NE\, 68048\, United States
ORGANIZER;CN="Cindy Cruse":MAILTO:ccruse@plattsmouthchamber.com
END:VEVENT
BEGIN:VEVENT
DTSTART;TZID=UTC:20180410T113000
DTEND;TZID=UTC:20180410T130000
DTSTAMP:20260421T045203
CREATED:20180326T191715Z
LAST-MODIFIED:20180326T191715Z
UID:1484-1523359800-1523365200@www.plattsmouthchamber.com
SUMMARY:Food Truck Tuesdays at the Roundabout
DESCRIPTION:
URL:https://www.plattsmouthchamber.com/event/food-truck-tuesdays-roundabout/
LOCATION:Roundabout Behind Cass County Bank\, 2020 W 8th Avenue\, PLATTSMOUTH\, NE\, 68048-1146\, United States
ORGANIZER;CN="Cindy Cruse":MAILTO:ccruse@plattsmouthchamber.com
END:VEVENT
BEGIN:VEVENT
DTSTART;TZID=UTC:20180322T173000
DTEND;TZID=UTC:20180322T203000
DTSTAMP:20260421T045203
CREATED:20180122T172305Z
LAST-MODIFIED:20180129T175128Z
UID:1445-1521739800-1521750600@www.plattsmouthchamber.com
SUMMARY:Plattsmouth Chamber of Commerce Award Banquet
DESCRIPTION:Please click the link below to nominate\, thank you! \nhttp://survey.constantcontact.com/survey/a07ef0kuas7jc7zxdyz/start \n  \nTo RSVP or purchase tickets follow link below: \nhttp://events.constantcontact.com/register/event?llr=7n6izafab&oeidk=a07ef2t6icz328a27c7
URL:https://www.plattsmouthchamber.com/event/plattsmouth-chamber-commerce-award-banquet/
LOCATION:NE
ORGANIZER;CN="Cindy Cruse":MAILTO:ccruse@plattsmouthchamber.com
END:VEVENT
BEGIN:VEVENT
DTSTART;TZID=UTC:20180125T073000
DTEND;TZID=UTC:20180125T210000
DTSTAMP:20260421T045203
CREATED:20171220T153457Z
LAST-MODIFIED:20171220T153457Z
UID:1409-1516865400-1516914000@www.plattsmouthchamber.com
SUMMARY:All Chamber's Together Coffee & Contacts
DESCRIPTION:All Chamber’s Together – Coffee & Contacts \n  \nThursday\, Jan. 25\, 2018 | 7:30-9 a.m. \n  \nWe’re kicking off 2018 by coming together! It’s an All Chamber’s Together Coffee & Contacts – the perfect way to start the New Year and expand your network! \n  \nJoin us for this very special pick-me-up\, a tremendous way to connect with members of other area chambers of commerce\, seek out some mutually-beneficial relationships and get to know our host venue\, Courtyard by Marriott Omaha Bellevue at Beardmore Event Center – all before your workday begins. \n  \nThere is no cost when pre-registering\, but if you don’t let us know you are coming\, it will cost you $5 at the door. \n\nMembers of The Plattsmouth Chamber of Commerce should register here.\nBelong to a different chamber? Please register through your chamber organization.\n\n  \nThis All Chamber’s Together event is presented in partnership with: \nBellevue Chamber of Commerce \nCouncil Bluffs Area Chamber of Commerce \nFremont Area Chamber \nGreater Omaha Chamber \nGretna Chamber of Commerce \nPlattsmouth Chamber of Commerce \nRalston Area Chamber of Commerce \nSarpy County Chamber of Commerce \nWestern Douglas County Chamber of Commerce \n  \nA special thanks to our hosting sponsor: Courtyard by Marriott Omaha Bellevue at Beardmore Event Center. \n  \nNeed more information? Please contact Cindy Cruse\, Executive Director Plattsmouth Chamber of Commerce – ccruse@plattsmouthchamber.com \n  \nCourtyard by Marriott Omaha Bellevue at Beardmore Event Center \n3730 Raynor Pkwy \nBellevue\, NE 68123
URL:https://www.plattsmouthchamber.com/event/chambers-together-coffee-contacts/
LOCATION:Courtyard by Marriott Omaha Bellevue at Beardmore Event Center\, 3730 Raynor Pkwy\, Bellevue\, 68123
CATEGORIES:Chamber Event
ORGANIZER;CN="Cindy Cruse":MAILTO:ccruse@plattsmouthchamber.com
END:VEVENT
BEGIN:VEVENT
DTSTART;TZID=UTC:20171013T170000
DTEND;TZID=UTC:20171013T210000
DTSTAMP:20260421T045203
CREATED:20171011T163749Z
LAST-MODIFIED:20171011T163749Z
UID:1391-1507914000-1507928400@www.plattsmouthchamber.com
SUMMARY:Rescheduled:  Cruizin Main 2017 - 14th Annual
DESCRIPTION:
URL:https://www.plattsmouthchamber.com/event/rescheduled-cruizin-main-2017-14th-annual/
LOCATION:NE
ORGANIZER;CN="Cindy Cruse":MAILTO:ccruse@plattsmouthchamber.com
END:VEVENT
BEGIN:VEVENT
DTSTART;TZID=UTC:20171006T170000
DTEND;TZID=UTC:20171006T210000
DTSTAMP:20260421T045203
CREATED:20161012T192254Z
LAST-MODIFIED:20170830T151438Z
UID:1296-1507309200-1507323600@www.plattsmouthchamber.com
SUMMARY:Cruizin' Main 2017
DESCRIPTION:To register your car email:  ccruse@plattsmouthchamber.com\n \n\nThis year we are adding a family friendly piece – two blocks up from Main Street – at Garfield Park we will have Cars 2 playing on a big screen and an obstacle course. Come down – eat and see the cars then head up to Garfield park for a movie and some fun times. \n  \nClick Here for More Info! \nClick Here for Sponsorship Info! \n  \nJoin us on Main Street Plattsmouth \n Over 700 cars last year \n Live Entertainment \nLemon Fresh Day (Courtesy of Main Street Association) \nDon’t miss out – its an amazing car show! \nTo register for the event – please email \nccruse@plattsmouthchamber.com \n\nThank you to our current sponsors – Hy-Vee\, Woodhouse\, Henry Chevrolet\, Plattsmouth State Bank\, OFC Schmidt Transportation\, Roby Funeral Home\, Shelter Insurance Julie Null\, Nebraska Realty – Tony Cruse\, City of Plattsmouth\, Tobacco Free Cass County\, One Life Church\, Plattsmouth Community Center\, Cornerstone Bank\, Sam’s Club. \n 
URL:https://www.plattsmouthchamber.com/event/cruizin-main-2017/
LOCATION:Entertainment Plaza\, 136 N 5th St\, Plattsmouth\, NE\, 68048\, United States
ORGANIZER;CN="Cindy Cruse":MAILTO:ccruse@plattsmouthchamber.com
END:VEVENT
BEGIN:VEVENT
DTSTART;TZID=UTC:20170728T170000
DTEND;TZID=UTC:20170728T210000
DTSTAMP:20260421T045203
CREATED:20170202T203528Z
LAST-MODIFIED:20170630T155910Z
UID:1342-1501261200-1501275600@www.plattsmouthchamber.com
SUMMARY:Friday Night Out
DESCRIPTION:
URL:https://www.plattsmouthchamber.com/event/friday-night-out/
LOCATION:Entertainment Plaza\, 136 N 5th St\, Plattsmouth\, NE\, 68048\, United States
ORGANIZER;CN="Cindy Cruse":MAILTO:ccruse@plattsmouthchamber.com
END:VEVENT
BEGIN:VEVENT
DTSTART;TZID=UTC:20170624T180000
DTEND;TZID=UTC:20170624T230000
DTSTAMP:20260421T045203
CREATED:20170202T202726Z
LAST-MODIFIED:20170619T145513Z
UID:1340-1498327200-1498345200@www.plattsmouthchamber.com
SUMMARY:1st Nebraska Food Truck Wars/ Street Dance
DESCRIPTION:Thank you to our sponsors that made this event happen!! \n\nThe City of Plattsmouth\, DC’s Waterhole\, Budweiser\, Turf Cars\, Nebraska Realty – Tony Cruse\, Casey’s General Store\, Main Street Association\, The Journal\, Jeff Henry Chevrolet\, Schmidt Trucking\, Tobacco Free Cass/Sarpy\,  and the Plattsmouth Chamber of Commerce. \n\nWe have over 20 food trucks coming – don’t miss out!!! \n\n\nJoin us on Main Street \nFood Trucks compete for $1500 cash prize \nLive Entertainment from 7-11pm \nFever and the Funk House \nBeer Garden \nDon’t miss out on this event! \nFree \nWe will be crowning the New Miss Plattsmouth 2017 at 7:30 pm. \nSome of the different foods that will be available for purchase include: \nNew Orleans\, Brisket\, smoked Chicken Tacos\, pulled pork\, gyros\, Chinese\, Gourmet burgers\, hawaiian\, authentic mexican\, thai\, greek tacos\, rice bowls\, sushi\, funnel sandwiches\, italian\, british pub food\, sausages\, BBQ\, handmade pizzas\, designer hot dogs\, sliders\, lobster roll\, soft crab shell\, chicken & waffles\, ribs\, plus more.
URL:https://www.plattsmouthchamber.com/event/1st-nebraska-food-truck-wars-street-dance/
LOCATION:NE
ORGANIZER;CN="Cindy Cruse":MAILTO:ccruse@plattsmouthchamber.com
END:VEVENT
BEGIN:VEVENT
DTSTART;TZID=UTC:20170602T080000
DTEND;TZID=UTC:20170602T170000
DTSTAMP:20260421T045203
CREATED:20170601T184552Z
LAST-MODIFIED:20170601T190124Z
UID:1369-1496390400-1496422800@www.plattsmouthchamber.com
SUMMARY:Plattsmouth Chamber of Commerce Annual Golf Tournament
DESCRIPTION:Businesses\, and golfers get together for food\, fun\, and golfing.  Registration starts at 9:00am – Shotgun start at 10:00am.  Be there early to get your mulligans\, rope\, chance to win a Harley\, and cash.  Lunch and dinner are included. \nThank you to all our sponsors: \n  \nKeg beer sponsored by Schmidt Trucking \nLunch sponsored by Subway. \nHole in one Sponsors: Pro Chrysler Jeep Dodge Ram\, Henry Chevrolet \nHole Sponsors: \nBlack Hills Energy \nNebraska Realty – Tony Cruse \nNebraska Title \nComper Care \nAbsolute Healthcare \nBrian Harvey Funeral Home \nCass County Bank \nTobacco Free Sarpy/Cass \nRoby Funeral Home \nCornerstone Bank \nDJ’s Dugout \nFarmers Insurance Allen Weaver \nCharter Title \nState Farm Derek Bird \nThe Nebraska Masonic Home \nPlattsmouth Care and Rehab \nPlattsmouth Community Center \nInter-Tech Collision \n  \nCorporate Sponsors: \nHy-Vee \nPlattsmouth State Bank \nWoodhouse Ford \nSam’s Club
URL:https://www.plattsmouthchamber.com/event/plattsmouth-chamber-commerce-annual-golf-tournament/
LOCATION:NE
ORGANIZER;CN="Unnamed Organizer":MAILTO:ccruse@plattsmouthchamber.com
END:VEVENT
BEGIN:VEVENT
DTSTART;TZID=UTC:20170428T180000
DTEND;TZID=UTC:20170428T210000
DTSTAMP:20260421T045203
CREATED:20170202T195146Z
LAST-MODIFIED:20170321T155643Z
UID:1334-1493402400-1493413200@www.plattsmouthchamber.com
SUMMARY:Amazing Race - Road Rally
DESCRIPTION:Registration begins March 1st.  To get a waiver please click the link below: \n  \nAmazingracewaiver2017 \n  \nTeams can be up to 6 players with a chance to win cash prizes \n1st place $500 \n2nd place $250 \n3rd place $100 \nStarting point Hy-Vee Market \nDon’t miss out on a great time
URL:https://www.plattsmouthchamber.com/event/amazing-race-road-rally/
LOCATION:NE
ORGANIZER;CN="Cindy Cruse":MAILTO:ccruse@plattsmouthchamber.com
END:VEVENT
BEGIN:VEVENT
DTSTART;TZID=UTC:20161104T170000
DTEND;TZID=UTC:20161104T210000
DTSTAMP:20260421T045203
CREATED:20160503T220656Z
LAST-MODIFIED:20161014T161319Z
UID:1245-1478278800-1478293200@www.plattsmouthchamber.com
SUMMARY:Award and Auction Banquet
DESCRIPTION:Click Here for More Info!
URL:https://www.plattsmouthchamber.com/event/award-auction-banquet/
LOCATION:Plattsmouth Community Center\, 308 S 18th St\, Plattsmouth\, NE\, 68048\, United States
END:VEVENT
BEGIN:VEVENT
DTSTART;TZID=UTC:20161007T170000
DTEND;TZID=UTC:20161007T210000
DTSTAMP:20260421T045203
CREATED:20160503T220600Z
LAST-MODIFIED:20161007T121625Z
UID:1244-1475859600-1475874000@www.plattsmouthchamber.com
SUMMARY:Plattsmouth 2016 Cruizin' Main
DESCRIPTION:Plattsmouth Chamber of Commerce Presents: \nThe 13th Annual Cruizin’ Main! Where car enthusiasts who come from 4 counties to Show ‘n Shine Car Show! \nGreat event to be a part of! Last year we had over 500 cars! Motorcycles are welcome too! Free-register in advance to reserve a dash plaque. T-shirts\, Hoodies\, and Koozie will be available to purchase the day of the event. \nLive music performed by On the Fritz (http://www.onthefritz.net/)-Courtesy of The City of Plattsmouth \nRegistration has closed
URL:https://www.plattsmouthchamber.com/event/cruizin-main/
LOCATION:NE
END:VEVENT
BEGIN:VEVENT
DTSTART;TZID=UTC:20160729T170000
DTEND;TZID=UTC:20160729T210000
DTSTAMP:20260421T045203
CREATED:20160503T220327Z
LAST-MODIFIED:20160607T181036Z
UID:1242-1469811600-1469826000@www.plattsmouthchamber.com
SUMMARY:Taste of Plattsmouth
DESCRIPTION:Come down and enjoy local food and businesses products.  Live music provided by Nate Bray.  Great time for the entire family!
URL:https://www.plattsmouthchamber.com/event/taste-plattsmouth-2/
LOCATION:NE
END:VEVENT
BEGIN:VEVENT
DTSTART;TZID=UTC:20160603T090000
DTEND;TZID=UTC:20160603T180000
DTSTAMP:20260421T045203
CREATED:20160503T203333Z
LAST-MODIFIED:20160503T203523Z
UID:1241-1464944400-1464976800@www.plattsmouthchamber.com
SUMMARY:Chamber Golfing Event
DESCRIPTION:
URL:https://www.plattsmouthchamber.com/event/chamber-golfing-event/
LOCATION:Bay Hills Golf Course\, 3200 Buccaneer Blvd\, Plattsmouth\, 68048
ORGANIZER;CN="Cindy Cruise":MAILTO:ccruise@plattsmouthchamber.com
END:VEVENT
END:VCALENDAR