BEGIN:VCALENDAR
VERSION:2.0
PRODID:-//Plattsmouth Chamber of Commerce - ECPv6.15.14//NONSGML v1.0//EN
CALSCALE:GREGORIAN
METHOD:PUBLISH
X-WR-CALNAME:Plattsmouth Chamber of Commerce
X-ORIGINAL-URL:https://www.plattsmouthchamber.com
X-WR-CALDESC:Events for Plattsmouth Chamber of Commerce
REFRESH-INTERVAL;VALUE=DURATION:PT1H
X-Robots-Tag:noindex
X-PUBLISHED-TTL:PT1H
BEGIN:VTIMEZONE
TZID:UTC
BEGIN:STANDARD
TZOFFSETFROM:+0000
TZOFFSETTO:+0000
TZNAME:UTC
DTSTART:20200101T000000
END:STANDARD
END:VTIMEZONE
BEGIN:VEVENT
DTSTART;TZID=UTC:20250912T170000
DTEND;TZID=UTC:20250912T210000
DTSTAMP:20260421T053525
CREATED:20250812T190803Z
LAST-MODIFIED:20250812T190803Z
UID:2170-1757696400-1757710800@www.plattsmouthchamber.com
SUMMARY:Cruizin Main 2025
DESCRIPTION:
URL:https://www.plattsmouthchamber.com/event/cruizin-main-2025/
LOCATION:Main Street Plattsmouth\, NE
ORGANIZER;CN="Cindy Cruse":MAILTO:ccruse@plattsmouthchamber.com
END:VEVENT
BEGIN:VEVENT
DTSTART;TZID=UTC:20250606T080000
DTEND;TZID=UTC:20250606T160000
DTSTAMP:20260421T053525
CREATED:20250411T194249Z
LAST-MODIFIED:20250411T194249Z
UID:2160-1749196800-1749225600@www.plattsmouthchamber.com
SUMMARY:Plattsmouth Chamber Golf
DESCRIPTION:
URL:https://www.plattsmouthchamber.com/event/plattsmouth-chamber-golf/
END:VEVENT
BEGIN:VEVENT
DTSTART;TZID=UTC:20250427T080000
DTEND;TZID=UTC:20250427T100000
DTSTAMP:20260421T053525
CREATED:20250411T194151Z
LAST-MODIFIED:20250411T194151Z
UID:2158-1745740800-1745748000@www.plattsmouthchamber.com
SUMMARY:
DESCRIPTION:  \nhttps://lp.constantcontactpages.com/ev/reg/93eq8qd
URL:https://www.plattsmouthchamber.com/event/2158/
END:VEVENT
BEGIN:VEVENT
DTSTART;TZID=UTC:20241108T170000
DTEND;TZID=UTC:20241108T190000
DTSTAMP:20260421T053525
CREATED:20241009T154609Z
LAST-MODIFIED:20241009T154609Z
UID:2131-1731085200-1731092400@www.plattsmouthchamber.com
SUMMARY:Plattsmouth Chamber of Commerce Holiday Networking
DESCRIPTION:
URL:https://www.plattsmouthchamber.com/event/plattsmouth-chamber-of-commerce-holiday-networking/
LOCATION:Hy-Vee Plattsmouth
END:VEVENT
BEGIN:VEVENT
DTSTART;TZID=UTC:20241015T170000
DTEND;TZID=UTC:20241015T190000
DTSTAMP:20260421T053525
CREATED:20240912T234257Z
LAST-MODIFIED:20240912T234257Z
UID:2127-1729011600-1729018800@www.plattsmouthchamber.com
SUMMARY:Milanos Ribbon Cutting/Networking night!
DESCRIPTION:
URL:https://www.plattsmouthchamber.com/event/milanos-ribbon-cutting-networking-night/
END:VEVENT
BEGIN:VEVENT
DTSTART;TZID=UTC:20240913T170000
DTEND;TZID=UTC:20240913T210000
DTSTAMP:20260421T053525
CREATED:20240529T174720Z
LAST-MODIFIED:20240912T234106Z
UID:2108-1726246800-1726261200@www.plattsmouthchamber.com
SUMMARY:Plattsmouth Chamber of Commerce Cruizin Main
DESCRIPTION:2024 Cruizin Main – September 13\, 2024\n\n\nBring those classic cars or motorcycles – we are ready for you and a good time – if you didn’t pre-register no worries we can get you at the gates – either Ave A and 6th or 1st Ave and 6th street!\n\n\nLive music by ENVY – food trucks\, beer garden\, Hy-Vee Indy race car\, vendors \, all kinds of great stuff – don’t miss out\n\n\nWe will have limited tshirts for sale but each car entrance will receive a 20 year memory koozie\, raffles for free prizes\, and of course judging for – Mayors Choice\, Chamber Choice\, Best of 50’s\, Best of 60’s\, Best of 70’s\, and Best of 80′-24\n\n\nYou don’t want to miss out the weather will me amazing!\n\n\nThank you to all our sponsors -this event wouldnt happen without you!\n\n  \n  \n \n  \n  \n  \nCRUIZIN MAIN 2024 \n  \n  \nSponsorships for this event – this is a big time event – great time to get your name out there! \n  \nTop Level Sponsor – $750 – Name on top and large on shirts and all materials for event – announced at the event and all social media pieces\, announced during band play breaks – allow any material from your business to be put in our bags and promoted  \nMid Level Sponsor – $500– Name mid size print on tshirts and all materials for event\, all social media\, can put materials in bag for event and promoted on our social media. \nFirst Tier Sponsor – $250 – Small print name on tshirts\, and all materials. Can put materials in bag for event. \n  \n  \nFood Truck Vendor Spots -$200 \nOther Vendor locations and spots available  \n  \nEmail Cindy at ccruse@plattsmouthchamber.com if you are interested in being a sponsor or vendor. \n 
URL:https://www.plattsmouthchamber.com/event/plattsmouth-chamber-of-commerce-cruizin-main-2/
LOCATION:Main Street Plattsmouth
ORGANIZER;CN="Cindy Cruse":MAILTO:ccruse@plattsmouthchamber.com
END:VEVENT
BEGIN:VEVENT
DTSTART;TZID=UTC:20240313T170000
DTEND;TZID=UTC:20240313T190000
DTSTAMP:20260421T053525
CREATED:20240214T170756Z
LAST-MODIFIED:20240214T182648Z
UID:2054-1710349200-1710356400@www.plattsmouthchamber.com
SUMMARY:Plattsmouth Chamber of Commerce Business Expo Networking Night
DESCRIPTION:
URL:https://www.plattsmouthchamber.com/event/2054/
LOCATION:Hy-Vee Plattsmouth
END:VEVENT
BEGIN:VEVENT
DTSTART;TZID=UTC:20240304T150000
DTEND;TZID=UTC:20240304T170000
DTSTAMP:20260421T053525
CREATED:20240214T182320Z
LAST-MODIFIED:20240214T182320Z
UID:2057-1709564400-1709571600@www.plattsmouthchamber.com
SUMMARY:Lofts on Main Ribbon Cutting
DESCRIPTION:loftonmainribboncutting2024
URL:https://www.plattsmouthchamber.com/event/lofts-on-main-ribbon-cutting/
LOCATION:814 Main street\, Plattsmouth
END:VEVENT
BEGIN:VEVENT
DTSTART;TZID=UTC:20231209T110000
DTEND;TZID=UTC:20231209T120000
DTSTAMP:20260421T053525
CREATED:20231204T211349Z
LAST-MODIFIED:20231204T211349Z
UID:2027-1702119600-1702123200@www.plattsmouthchamber.com
SUMMARY:Silverstones Book Store Grand Opening
DESCRIPTION:
URL:https://www.plattsmouthchamber.com/event/silverstones-book-store-grand-opening/
END:VEVENT
BEGIN:VEVENT
DTSTART;TZID=UTC:20231208T160000
DTEND;TZID=UTC:20231208T180000
DTSTAMP:20260421T053525
CREATED:20231204T211235Z
LAST-MODIFIED:20231204T211235Z
UID:2025-1702051200-1702058400@www.plattsmouthchamber.com
SUMMARY:Nebraska Title Holiday Event
DESCRIPTION:
URL:https://www.plattsmouthchamber.com/event/nebraska-title-holiday-event/
LOCATION:Lakeridge Golf Course\, 1536 Country Club Drive
ORGANIZER;CN="Cindy Cruse":MAILTO:ccruse@plattsmouthchamber.com
END:VEVENT
BEGIN:VEVENT
DTSTART;TZID=UTC:20230915T120000
DTEND;TZID=UTC:20230915T210000
DTSTAMP:20260421T053525
CREATED:20230126T162832Z
LAST-MODIFIED:20230802T161826Z
UID:1961-1694779200-1694811600@www.plattsmouthchamber.com
SUMMARY:Cruizin Main Car Show
DESCRIPTION:To Pre-Register click the link below: \n  \nhttp://events.constantcontact.com/register/event?llr=7n6izafab&oeidk=a07ejv3po177a3514c2 \n  \n 
URL:https://www.plattsmouthchamber.com/event/cruizin-main-car-show/
LOCATION:Main Street Plattsmouth
ORGANIZER;CN="Cindy Cruse":MAILTO:ccruse@plattsmouthchamber.com
END:VEVENT
BEGIN:VEVENT
DTSTART;TZID=UTC:20230609T080000
DTEND;TZID=UTC:20230609T140000
DTSTAMP:20260421T053525
CREATED:20230126T162711Z
LAST-MODIFIED:20230309T143255Z
UID:1959-1686297600-1686319200@www.plattsmouthchamber.com
SUMMARY:Plattsmouth Chamber of Commerce Golf Tournament
DESCRIPTION:Annul Golf Fundraiser – cost is $500 per team – includes lunch\, rope pulls\, mulligans\, and 1 chance at the putting contest.  – get your teams together – lots of opportunities to sponsor holes\, kegs\, carts\, putting green \n  \nTo register click the link below: \nhttp://events.constantcontact.com/register/event?llr=7n6izafab&oeidk=a07ejotybtu88311ac1
URL:https://www.plattsmouthchamber.com/event/plattsmouth-chamber-of-commerce-golf-tournament-4/
LOCATION:Bay Hills Golf Course\, 3200 Buccaneer Blvd\, Plattsmouth\, 68048
END:VEVENT
BEGIN:VEVENT
DTSTART;TZID=UTC:20230430T073000
DTEND;TZID=UTC:20230430T110000
DTSTAMP:20260421T053525
CREATED:20230213T155908Z
LAST-MODIFIED:20230303T140408Z
UID:1972-1682839800-1682852400@www.plattsmouthchamber.com
SUMMARY:City to City Bike Ride & Plattsmouth 5k Run
DESCRIPTION:Register by clicking link below \nhttp://events.constantcontact.com/register/event?llr=7n6izafab&oeidk=a07ejnj3ilf745619cb
URL:https://www.plattsmouthchamber.com/event/city-to-city-bike-ride-plattsmouth-5k-run/
END:VEVENT
BEGIN:VEVENT
DTSTART;TZID=UTC:20230427T103000
DTEND;TZID=UTC:20230427T133000
DTSTAMP:20260421T053525
CREATED:20230413T132258Z
LAST-MODIFIED:20230413T132258Z
UID:1997-1682591400-1682602200@www.plattsmouthchamber.com
SUMMARY:Food Truck Thursdays
DESCRIPTION:
URL:https://www.plattsmouthchamber.com/event/food-truck-thursdays-2/
END:VEVENT
BEGIN:VEVENT
DTSTART;TZID=UTC:20230413T110000
DTEND;TZID=UTC:20231026T130000
DTSTAMP:20260421T053525
CREATED:20230317T133646Z
LAST-MODIFIED:20230317T133646Z
UID:1991-1681383600-1698325200@www.plattsmouthchamber.com
SUMMARY:Food Truck Thursdays - Every 2nd and 4th Thursday of the Month from April to October 2023
DESCRIPTION:
URL:https://www.plattsmouthchamber.com/event/food-truck-thursdays-every-2nd-and-4th-thursday-of-the-month-from-april-to-october-2023/
END:VEVENT
BEGIN:VEVENT
DTSTART;TZID=UTC:20230413T103000
DTEND;TZID=UTC:20230413T133000
DTSTAMP:20260421T053525
CREATED:20230413T132214Z
LAST-MODIFIED:20230413T132214Z
UID:1995-1681381800-1681392600@www.plattsmouthchamber.com
SUMMARY:Food Truck Thursdays
DESCRIPTION:
URL:https://www.plattsmouthchamber.com/event/food-truck-thursdays/
END:VEVENT
BEGIN:VEVENT
DTSTART;TZID=UTC:20230316T110000
DTEND;TZID=UTC:20230316T130000
DTSTAMP:20260421T053525
CREATED:20230126T162439Z
LAST-MODIFIED:20230126T162439Z
UID:1956-1678964400-1678971600@www.plattsmouthchamber.com
SUMMARY:Family Connections Plattsmouth - Networking Luncheon
DESCRIPTION:Come down to Family Connections in Plattsmouth 11-1 – enjoy some free goodies and lunch items – see what Family Connections can do for you
URL:https://www.plattsmouthchamber.com/event/family-connections-plattsmouth-networking-luncheon/
LOCATION:Family Connections Plattsmouth\, 526 Ave A\, Plattsmouth\, NE\, 68048\, United States
ORGANIZER;CN="Cindy Cruse":MAILTO:ccruse@plattsmouthchamber.com
END:VEVENT
BEGIN:VEVENT
DTSTART;TZID=UTC:20221116T173000
DTEND;TZID=UTC:20221116T190000
DTSTAMP:20260421T053525
CREATED:20221014T141710Z
LAST-MODIFIED:20221107T172440Z
UID:1943-1668619800-1668625200@www.plattsmouthchamber.com
SUMMARY:Business to Business Networking
DESCRIPTION:
URL:https://www.plattsmouthchamber.com/event/business-to-business-networking/
END:VEVENT
BEGIN:VEVENT
DTSTART;TZID=UTC:20220916T170000
DTEND;TZID=UTC:20220916T210000
DTSTAMP:20260421T053525
CREATED:20220216T161531Z
LAST-MODIFIED:20220511T153323Z
UID:1881-1663347600-1663362000@www.plattsmouthchamber.com
SUMMARY:Cruizin Main 2022
DESCRIPTION:
URL:https://www.plattsmouthchamber.com/event/cruizin-main-2022/
LOCATION:Entertainment Plaza\, 136 N 5th St\, Plattsmouth\, NE\, 68048\, United States
ORGANIZER;CN="Cindy Cruse":MAILTO:ccruse@plattsmouthchamber.com
END:VEVENT
BEGIN:VEVENT
DTSTART;TZID=UTC:20220727T080000
DTEND;TZID=UTC:20220727T090000
DTSTAMP:20260421T053525
CREATED:20220712T151552Z
LAST-MODIFIED:20220712T151552Z
UID:1923-1658908800-1658912400@www.plattsmouthchamber.com
SUMMARY:Coffee At the College
DESCRIPTION:
URL:https://www.plattsmouthchamber.com/event/coffee-at-the-college/
END:VEVENT
BEGIN:VEVENT
DTSTART;TZID=UTC:20220709T180000
DTEND;TZID=UTC:20220709T220000
DTSTAMP:20260421T053525
CREATED:20220628T141603Z
LAST-MODIFIED:20220628T141603Z
UID:1918-1657389600-1657404000@www.plattsmouthchamber.com
SUMMARY:Rockhill Windmill presents comedian Nick Allen
DESCRIPTION:THE ROCK HILL WINDMILL EVENT CENTER brings you comedian Nick Allen + Friends on Saturday\, July 9th. Show at 8. No tickets needed\, free will offering. Doors open at 6 with a full cash bar and food trucks. 21-plus\, no outside drinks allowed in. 5910 Ranch Road (west of Plattsmouth)
URL:https://www.plattsmouthchamber.com/event/rockhill-windmill-presents-comedian-nick-allen/
LOCATION:Rock hill Windmill
END:VEVENT
BEGIN:VEVENT
DTSTART;TZID=UTC:20220601T080000
DTEND;TZID=UTC:20220601T170000
DTSTAMP:20260421T053525
CREATED:20220215T164336Z
LAST-MODIFIED:20220215T185104Z
UID:1871-1654070400-1654102800@www.plattsmouthchamber.com
SUMMARY:Plattsmouth Chamber of Commerce Golf Tournament
DESCRIPTION:
URL:https://www.plattsmouthchamber.com/event/plattsmouth-chamber-of-commerce-golf-tournament-3/
LOCATION:Bay Hills Golf Course\, 3200 Buccaneer Blvd\, Plattsmouth\, 68048
ORGANIZER;CN="Cindy Cruse":MAILTO:ccruse@plattsmouthchamber.com
END:VEVENT
BEGIN:VEVENT
DTSTART;TZID=UTC:20220507T180000
DTEND;TZID=UTC:20220507T220000
DTSTAMP:20260421T053525
CREATED:20220301T181359Z
LAST-MODIFIED:20220315T134609Z
UID:1887-1651946400-1651960800@www.plattsmouthchamber.com
SUMMARY:Plattsmouth Chamber of Commerce Nebraska Food Truck Wars
DESCRIPTION:
URL:https://www.plattsmouthchamber.com/event/plattsmouth-chamber-of-commerce-nebraska-food-truck-wars/
LOCATION:Roundabout Behind Cass County Bank\, 2020 W 8th Avenue\, PLATTSMOUTH\, NE\, 68048-1146\, United States
ORGANIZER;CN="Cindy Cruse":MAILTO:ccruse@plattsmouthchamber.com
END:VEVENT
BEGIN:VEVENT
DTSTART;TZID=UTC:20220322T070000
DTEND;TZID=UTC:20220322T083000
DTSTAMP:20260421T053525
CREATED:20220215T164503Z
LAST-MODIFIED:20220215T164503Z
UID:1874-1647932400-1647937800@www.plattsmouthchamber.com
SUMMARY:Makovicka Coffee And Contacts
DESCRIPTION:
URL:https://www.plattsmouthchamber.com/event/makovicka-coffee-and-contacts/
ORGANIZER;CN="Cindy Cruse":MAILTO:ccruse@plattsmouthchamber.com
END:VEVENT
BEGIN:VEVENT
DTSTART;TZID=UTC:20220319T110000
DTEND;TZID=UTC:20220319T130000
DTSTAMP:20260421T053525
CREATED:20220317T145927Z
LAST-MODIFIED:20220317T145927Z
UID:1899-1647687600-1647694800@www.plattsmouthchamber.com
SUMMARY:One Life Ribbon Cutting
DESCRIPTION:
URL:https://www.plattsmouthchamber.com/event/one-life-ribbon-cutting/
END:VEVENT
BEGIN:VEVENT
DTSTART;TZID=UTC:20220309T073000
DTEND;TZID=UTC:20220309T083000
DTSTAMP:20260421T053525
CREATED:20220301T181634Z
LAST-MODIFIED:20220301T181634Z
UID:1890-1646811000-1646814600@www.plattsmouthchamber.com
SUMMARY:Citizens State Bank Coffee and Contacts
DESCRIPTION:
URL:https://www.plattsmouthchamber.com/event/citizens-state-bank-coffee-and-contacts/
LOCATION:Citizens State Bank Downtown
END:VEVENT
BEGIN:VEVENT
DTSTART;TZID=UTC:20220216T073000
DTEND;TZID=UTC:20220216T083000
DTSTAMP:20260421T053525
CREATED:20220215T164232Z
LAST-MODIFIED:20220215T164232Z
UID:1867-1644996600-1645000200@www.plattsmouthchamber.com
SUMMARY:Witte Physical Therapy Coffee and Contacts
DESCRIPTION:
URL:https://www.plattsmouthchamber.com/event/witte-physical-therapy-coffee-and-contacts/
LOCATION:Witte Physical Therapy\, 16304 Westside drive\, Plattsmouth\, NE\, 68048\, United States
ORGANIZER;CN="Cindy Cruse":MAILTO:ccruse@plattsmouthchamber.com
END:VEVENT
BEGIN:VEVENT
DTSTART;TZID=UTC:20211110T180000
DTEND;TZID=UTC:20211110T210000
DTSTAMP:20260421T053525
CREATED:20211108T144825Z
LAST-MODIFIED:20211108T144825Z
UID:1852-1636567200-1636578000@www.plattsmouthchamber.com
SUMMARY:Plattsmouth Chamber of Commerce Business Expo and Networking
DESCRIPTION:
URL:https://www.plattsmouthchamber.com/event/plattsmouth-chamber-of-commerce-business-expo-and-networking/
LOCATION:Plattsmouth Community Center\, 308 S 18th St\, Plattsmouth\, NE\, 68048\, United States
ORGANIZER;CN="Cindy Cruse":MAILTO:ccruse@plattsmouthchamber.com
END:VEVENT
BEGIN:VEVENT
DTSTART;TZID=UTC:20210917T170000
DTEND;TZID=UTC:20210917T210000
DTSTAMP:20260421T053525
CREATED:20210305T183831Z
LAST-MODIFIED:20210804T151933Z
UID:1791-1631898000-1631912400@www.plattsmouthchamber.com
SUMMARY:Plattsmouth Chamber of Commerce Cruizin Main
DESCRIPTION:  \nREGISTER HERE \n  \n  \n 
URL:https://www.plattsmouthchamber.com/event/plattsmouth-chamber-of-commerce-cruizin-main/
LOCATION:Entertainment Plaza\, 136 N 5th St\, Plattsmouth\, NE\, 68048\, United States
ORGANIZER;CN="Cindy Cruse":MAILTO:ccruse@plattsmouthchamber.com
END:VEVENT
BEGIN:VEVENT
DTSTART;TZID=UTC:20210630T110000
DTEND;TZID=UTC:20210630T130000
DTSTAMP:20260421T053525
CREATED:20210617T155940Z
LAST-MODIFIED:20210617T155940Z
UID:1820-1625050800-1625058000@www.plattsmouthchamber.com
SUMMARY:Witte Physical Therapy Open House
DESCRIPTION:June 30th from 11-1 – please come out and join Dan at his new location in Plattsmouth right next to Hy-Vee
URL:https://www.plattsmouthchamber.com/event/witte-physical-therapy-open-house/
LOCATION:16304 westside drive\, 16304 Westside drive\, Plattsmouth\, ne\, 68048
ORGANIZER;CN="Cindy Cruse":MAILTO:ccruse@plattsmouthchamber.com
END:VEVENT
END:VCALENDAR