BEGIN:VCALENDAR
VERSION:2.0
PRODID:-//Plattsmouth Chamber of Commerce - ECPv6.15.14//NONSGML v1.0//EN
CALSCALE:GREGORIAN
METHOD:PUBLISH
X-ORIGINAL-URL:https://www.plattsmouthchamber.com
X-WR-CALDESC:Events for Plattsmouth Chamber of Commerce
REFRESH-INTERVAL;VALUE=DURATION:PT1H
X-Robots-Tag:noindex
X-PUBLISHED-TTL:PT1H
BEGIN:VTIMEZONE
TZID:UTC
BEGIN:STANDARD
TZOFFSETFROM:+0000
TZOFFSETTO:+0000
TZNAME:UTC
DTSTART:20170101T000000
END:STANDARD
END:VTIMEZONE
BEGIN:VEVENT
DTSTART;TZID=UTC:20180125T073000
DTEND;TZID=UTC:20180125T210000
DTSTAMP:20260421T081444
CREATED:20171220T153457Z
LAST-MODIFIED:20171220T153457Z
UID:1409-1516865400-1516914000@www.plattsmouthchamber.com
SUMMARY:All Chamber's Together Coffee & Contacts
DESCRIPTION:All Chamber’s Together – Coffee & Contacts \n  \nThursday\, Jan. 25\, 2018 | 7:30-9 a.m. \n  \nWe’re kicking off 2018 by coming together! It’s an All Chamber’s Together Coffee & Contacts – the perfect way to start the New Year and expand your network! \n  \nJoin us for this very special pick-me-up\, a tremendous way to connect with members of other area chambers of commerce\, seek out some mutually-beneficial relationships and get to know our host venue\, Courtyard by Marriott Omaha Bellevue at Beardmore Event Center – all before your workday begins. \n  \nThere is no cost when pre-registering\, but if you don’t let us know you are coming\, it will cost you $5 at the door. \n\nMembers of The Plattsmouth Chamber of Commerce should register here.\nBelong to a different chamber? Please register through your chamber organization.\n\n  \nThis All Chamber’s Together event is presented in partnership with: \nBellevue Chamber of Commerce \nCouncil Bluffs Area Chamber of Commerce \nFremont Area Chamber \nGreater Omaha Chamber \nGretna Chamber of Commerce \nPlattsmouth Chamber of Commerce \nRalston Area Chamber of Commerce \nSarpy County Chamber of Commerce \nWestern Douglas County Chamber of Commerce \n  \nA special thanks to our hosting sponsor: Courtyard by Marriott Omaha Bellevue at Beardmore Event Center. \n  \nNeed more information? Please contact Cindy Cruse\, Executive Director Plattsmouth Chamber of Commerce – ccruse@plattsmouthchamber.com \n  \nCourtyard by Marriott Omaha Bellevue at Beardmore Event Center \n3730 Raynor Pkwy \nBellevue\, NE 68123
URL:https://www.plattsmouthchamber.com/event/chambers-together-coffee-contacts/
LOCATION:Courtyard by Marriott Omaha Bellevue at Beardmore Event Center\, 3730 Raynor Pkwy\, Bellevue\, 68123
CATEGORIES:Chamber Event
ORGANIZER;CN="Cindy Cruse":MAILTO:ccruse@plattsmouthchamber.com
END:VEVENT
END:VCALENDAR